BEGIN:VCALENDAR
VERSION:2.0
CALSCALE:GREGORIAN
PRODID:-//CALENDARSERVER.ORG//NONSGML Version 1//EN
BEGIN:VTIMEZONE
TZID:Europe/Tallinn
BEGIN:DAYLIGHT
TZOFFSETFROM:+0200
RRULE:FREQ=YEARLY;BYMONTH=3;BYDAY=-1SU
DTSTART:20020331T030000
TZNAME:GMT+3
TZOFFSETTO:+0300
END:DAYLIGHT
BEGIN:STANDARD
TZOFFSETFROM:+0300
RRULE:FREQ=YEARLY;BYMONTH=10;BYDAY=-1SU
DTSTART:20021027T040000
TZNAME:GMT+2
TZOFFSETTO:+0200
END:STANDARD
END:VTIMEZONE
BEGIN:VEVENT
CREATED:20260422T110809Z
UID:69e8ac19c451c
URL;VALUE=URI:https://www.metsaoksjon.ee/2450
DTEND;TZID=Europe/Tallinn:20231010T120000
TRANSP:TRANSPARENT
X-APPLE-TRAVEL-ADVISORY-BEHAVIOR:AUTOMATIC
SUMMARY:Paalipere raieõigus
DTSTART;TZID=Europe/Tallinn:20231010T120000
DTSTAMP:20260422T110809Z
SEQUENCE:0
DESCRIPTION:Enampakkumisel müüakse kasvava metsa raieõigus\, 
 asukohaga: Lääne-Virumaa\,  Haljala vald\, Villandi 
 küla\; raieala pindala on 5\,64 ha\, ligikaudne raiutav 
 maht on 1058 tihumeetrit.
 ENAMPAKKUMISE ALGHIND: 50 000 
 (viiskümmend tuhat) EUROT !
 Lubatud on esitada alla 
 alghinda jääv hinnapakkumine\, millega Müüjale ei 
 kaasne 
 müügikohustust\; kuid samas Müüja võib vastu 
 võtta ka alla alghinda jääva hinnapakkumise\,   
 
 teavitades enda vastavast otsusest 72 tunni jooksul alates 
 enampakkumise lõppemisest.
 Raietöödega on Ostjal õigus 
 alustada peale ostumüügisumma täielikku tasumist 
 Müüjale.
BEGIN:VALARM
UID:69e8ac19c451a
TRIGGER:-PT1H
DESCRIPTION:Oksjoni lõpp
ACTION:DISPLAY
END:VALARM
BEGIN:VALARM
UID:69e8ac19c451b
TRIGGER:-PT24H
DESCRIPTION:Oksjoni lõpp
ACTION:DISPLAY
END:VALARM
END:VEVENT
END:VCALENDAR